{
 "currentVersion": 11.5,
 "serviceDescription": "NORAD/Hillshade_Bududa",
 "serviceItemId": "939d370a2de24d5e8ec12015a14dc317",
 "name": "NORAD/Hillshade_Bududa",
 "description": "",
 "extent": {
  "xmin": 641374.0619015072,
  "ymin": 103481.42485344628,
  "xmax": 671049.0619015072,
  "ymax": 124043.92485344628,
  "spatialReference": {
   "wkid": 21096,
   "latestWkid": 21096
  }
 },
 "initialExtent": {
  "xmin": 641374.0619015072,
  "ymin": 103481.42485344628,
  "xmax": 671049.0619015072,
  "ymax": 124043.92485344628,
  "spatialReference": {
   "wkid": 21096,
   "latestWkid": 21096
  }
 },
 "fullExtent": {
  "xmin": 641374.0619015072,
  "ymin": 103481.42485344628,
  "xmax": 671049.0619015072,
  "ymax": 124043.92485344628,
  "spatialReference": {
   "wkid": 21096,
   "latestWkid": 21096
  }
 },
 "sortableFields": "",
 "bandCount": 1,
 "pixelType": "U8",
 "minValues": [
  0
 ],
 "maxValues": [
  254
 ],
 "meanValues": [
  165.58669367557764
 ],
 "stdvValues": [
  55.407122863488226
 ],
 "serviceProperties": "Center<\/MosaicMethod>First<\/MosaicOperator>true<\/SortAscending><\/LockImageID><\/TileOrderField>0<\/TileOrderBase>0.000000<\/AvgImageSpacingX>0.000000<\/AvgImageSpacingY>0.0<\/ViewPointX>0.0<\/ViewPointY>0.0<\/ViewPointDefShiftX>0.0<\/ViewPointDefShiftY>None<\/CompressionMethod>75<\/CompressionQuality>0.010000<\/CompressionTolerance>Bilinear<\/SamplingMethod><\/ImageServiceProperties><\/ImageServer>",
 "allowedFields": "",
 "hasMultidimensions": false,
 "pixelSizeX": 12.5,
 "pixelSizeY": 12.5,
 "meanPixelSize": 12.5,
 "datasetFormat": "FGDBR",
 "uncompressedSize": 3905230,
 "blockWidth": 128,
 "blockHeight": 128,
 "compressionType": "LZ77",
 "bandNames": [
  "Band_1"
 ],
 "allowCopy": true,
 "allowAnalysis": true,
 "itemAccess": false,
 "inspectionCapabilities": "",
 "minPixelSize": 0,
 "maxPixelSize": 0,
 "copyrightText": "",
 "serviceDataType": "esriImageServiceDataTypeGeneric",
 "serviceSourceType": "esriImageServiceSourceTypeDataset",
 "objectIdField": "",
 "fields": [],
 "capabilities": "Image,Metadata,Mensuration",
 "defaultMosaicMethod": "Center",
 "allowedMosaicMethods": "",
 "sortField": "",
 "sortValue": null,
 "sortAscending": true,
 "mosaicOperator": "First",
 "defaultCompressionQuality": 75,
 "defaultResamplingMethod": "Bilinear",
 "maxImageHeight": 4100,
 "maxImageWidth": 15000,
 "allowRasterFunction": true,
 "rasterFunctionInfos": [
  {
   "name": "None",
   "description": "",
   "help": ""
  }
 ],
 "rasterTypeInfos": [
  {
   "name": "Raster Dataset",
   "description": "Supports all ArcGIS Raster Datasets",
   "help": ""
  }
 ],
 "mensurationCapabilities": "Basic",
 "hasHistograms": true,
 "hasColormap": false,
 "hasRasterAttributeTable": true,
 "minScale": 0,
 "maxScale": 0,
 "exportTilesAllowed": false,
 "supportsStatistics": false,
 "supportsAdvancedQueries": false,
 "editFieldsInfo": null,
 "ownershipBasedAccessControlForRasters": null,
 "allowComputeTiePoints": false,
 "useStandardizedQueries": true,
 "advancedQueryCapabilities": {
  "useStandardizedQueries": true,
  "supportsStatistics": false,
  "supportsOrderBy": false,
  "supportsDistinct": false,
  "supportsPagination": false
 },
 "spatialReference": {
  "wkid": 21096,
  "latestWkid": 21096
 }
}
