{
 "currentVersion": 11.5,
 "serviceDescription": "commonsensing/DEM_NASA_Fiji",
 "serviceItemId": "4082e22c36ba42868267e39bdaedce4d",
 "name": "commonsensing/DEM_NASA_Fiji",
 "description": "",
 "extent": {
  "xmin": 1802356.3357662265,
  "ymin": 3550500.7462722235,
  "xmax": 2316706.3357662265,
  "ymax": 4501650.746272223,
  "spatialReference": {
   "wkid": 3460,
   "latestWkid": 3460
  }
 },
 "initialExtent": {
  "xmin": 1802356.3357662265,
  "ymin": 3550500.7462722235,
  "xmax": 2316706.3357662265,
  "ymax": 4501650.746272223,
  "spatialReference": {
   "wkid": 3460,
   "latestWkid": 3460
  }
 },
 "fullExtent": {
  "xmin": 1802356.3357662265,
  "ymin": 3550500.7462722235,
  "xmax": 2316706.3357662265,
  "ymax": 4501650.746272223,
  "spatialReference": {
   "wkid": 3460,
   "latestWkid": 3460
  }
 },
 "sortableFields": "",
 "bandCount": 1,
 "pixelType": "F32",
 "minValues": [
  -62
 ],
 "maxValues": [
  1311
 ],
 "meanValues": [
  200.85751122576312
 ],
 "stdvValues": [
  211.08700894709187
 ],
 "serviceProperties": "Center<\/MosaicMethod>First<\/MosaicOperator>true<\/SortAscending><\/LockImageID><\/TileOrderField>0<\/TileOrderBase>0.000000<\/AvgImageSpacingX>0.000000<\/AvgImageSpacingY>0.0<\/ViewPointX>0.0<\/ViewPointY>0.0<\/ViewPointDefShiftX>0.0<\/ViewPointDefShiftY>None<\/CompressionMethod>75<\/CompressionQuality>0.010000<\/CompressionTolerance>Bilinear<\/SamplingMethod><\/ImageServiceProperties><\/ImageServer>",
 "allowedFields": "",
 "hasMultidimensions": false,
 "pixelSizeX": 30,
 "pixelSizeY": 29.999999999999986,
 "meanPixelSize": 29.999999999999993,
 "datasetFormat": "FGDBR",
 "uncompressedSize": 2174328900,
 "blockWidth": 128,
 "blockHeight": 128,
 "compressionType": "NONE",
 "bandNames": [
  "Band_1"
 ],
 "allowCopy": true,
 "allowAnalysis": true,
 "itemAccess": false,
 "inspectionCapabilities": "",
 "minPixelSize": 0,
 "maxPixelSize": 0,
 "copyrightText": "",
 "serviceDataType": "esriImageServiceDataTypeGeneric",
 "serviceSourceType": "esriImageServiceSourceTypeDataset",
 "objectIdField": "",
 "fields": [],
 "capabilities": "Image,Metadata,Pixels,Mensuration",
 "defaultMosaicMethod": "Center",
 "allowedMosaicMethods": "",
 "sortField": "",
 "sortValue": null,
 "sortAscending": true,
 "mosaicOperator": "First",
 "defaultCompressionQuality": 75,
 "defaultResamplingMethod": "Bilinear",
 "maxImageHeight": 4100,
 "maxImageWidth": 15000,
 "allowRasterFunction": true,
 "rasterFunctionInfos": [
  {
   "name": "None",
   "description": "",
   "help": ""
  }
 ],
 "rasterTypeInfos": [
  {
   "name": "Raster Dataset",
   "description": "Supports all ArcGIS Raster Datasets",
   "help": ""
  }
 ],
 "mensurationCapabilities": "Basic",
 "hasHistograms": true,
 "hasColormap": false,
 "hasRasterAttributeTable": false,
 "minScale": 0,
 "maxScale": 0,
 "exportTilesAllowed": false,
 "supportsStatistics": false,
 "supportsAdvancedQueries": false,
 "editFieldsInfo": null,
 "ownershipBasedAccessControlForRasters": null,
 "allowComputeTiePoints": false,
 "useStandardizedQueries": true,
 "advancedQueryCapabilities": {
  "useStandardizedQueries": true,
  "supportsStatistics": false,
  "supportsOrderBy": false,
  "supportsDistinct": false,
  "supportsPagination": false
 },
 "spatialReference": {
  "wkid": 3460,
  "latestWkid": 3460
 }
}
