{
 "currentVersion": 11.5,
 "serviceDescription": "commonsensing/FJ000_DR_EQ_Geology_Class_5m",
 "serviceItemId": "ef73bf2406134be4a78be460bb7bc525",
 "name": "commonsensing/FJ000_DR_EQ_Geology_Class_5m",
 "description": "",
 "extent": {
  "xmin": 1914540.9425971876,
  "ymin": 3758080.4026101613,
  "xmax": 1978520.9425971876,
  "ymax": 3808685.4026101613,
  "spatialReference": {
   "wkid": 3460,
   "latestWkid": 3460
  }
 },
 "initialExtent": {
  "xmin": 1914540.9425971876,
  "ymin": 3758080.4026101613,
  "xmax": 1978520.9425971876,
  "ymax": 3808685.4026101613,
  "spatialReference": {
   "wkid": 3460,
   "latestWkid": 3460
  }
 },
 "fullExtent": {
  "xmin": 1914540.9425971876,
  "ymin": 3758080.4026101613,
  "xmax": 1978520.9425971876,
  "ymax": 3808685.4026101613,
  "spatialReference": {
   "wkid": 3460,
   "latestWkid": 3460
  }
 },
 "sortableFields": "",
 "bandCount": 1,
 "pixelType": "U2",
 "minValues": [
  1
 ],
 "maxValues": [
  3
 ],
 "meanValues": [
  1.166121509242
 ],
 "stdvValues": [
  0.42559983860398
 ],
 "serviceProperties": "Center<\/MosaicMethod>First<\/MosaicOperator>true<\/SortAscending><\/LockImageID><\/TileOrderField>0<\/TileOrderBase>0.000000<\/AvgImageSpacingX>0.000000<\/AvgImageSpacingY>0.0<\/ViewPointX>0.0<\/ViewPointY>0.0<\/ViewPointDefShiftX>0.0<\/ViewPointDefShiftY>None<\/CompressionMethod>75<\/CompressionQuality>0.010000<\/CompressionTolerance>Bilinear<\/SamplingMethod><\/ImageServiceProperties><\/ImageServer>",
 "allowedFields": "",
 "hasMultidimensions": false,
 "pixelSizeX": 5,
 "pixelSizeY": 5,
 "meanPixelSize": 5,
 "datasetFormat": "TIFF",
 "uncompressedSize": 32377079,
 "blockWidth": 128,
 "blockHeight": 128,
 "compressionType": "LZW",
 "bandNames": [
  "Band_1"
 ],
 "allowCopy": true,
 "allowAnalysis": true,
 "itemAccess": false,
 "inspectionCapabilities": "",
 "noDataValue": 0,
 "noDataValues": [
  0
 ],
 "minPixelSize": 0,
 "maxPixelSize": 0,
 "copyrightText": "",
 "serviceDataType": "esriImageServiceDataTypeGeneric",
 "serviceSourceType": "esriImageServiceSourceTypeDataset",
 "objectIdField": "",
 "fields": [],
 "capabilities": "Image,Metadata,Mensuration",
 "defaultMosaicMethod": "Center",
 "allowedMosaicMethods": "",
 "sortField": "",
 "sortValue": null,
 "sortAscending": true,
 "mosaicOperator": "First",
 "defaultCompressionQuality": 75,
 "defaultResamplingMethod": "Bilinear",
 "maxImageHeight": 4100,
 "maxImageWidth": 15000,
 "allowRasterFunction": true,
 "rasterFunctionInfos": [
  {
   "name": "Soil_Type",
   "description": "A raster function template.",
   "help": ""
  },
  {
   "name": "None",
   "description": "",
   "help": ""
  }
 ],
 "rasterTypeInfos": [
  {
   "name": "Raster Dataset",
   "description": "Supports all ArcGIS Raster Datasets",
   "help": ""
  }
 ],
 "mensurationCapabilities": "Basic",
 "hasHistograms": true,
 "hasColormap": false,
 "hasRasterAttributeTable": true,
 "minScale": 0,
 "maxScale": 0,
 "exportTilesAllowed": false,
 "supportsStatistics": false,
 "supportsAdvancedQueries": false,
 "editFieldsInfo": null,
 "ownershipBasedAccessControlForRasters": null,
 "allowComputeTiePoints": false,
 "useStandardizedQueries": true,
 "advancedQueryCapabilities": {
  "useStandardizedQueries": true,
  "supportsStatistics": false,
  "supportsOrderBy": false,
  "supportsDistinct": false,
  "supportsPagination": false
 },
 "spatialReference": {
  "wkid": 3460,
  "latestWkid": 3460
 }
}
