{
 "currentVersion": 11.5,
 "serviceDescription": "commonsensing/Fiji_NASADEM",
 "serviceItemId": "4c83d6ef1aa44156a83c804c083c66a1",
 "name": "commonsensing/Fiji_NASADEM",
 "description": "",
 "extent": {
  "xmin": 1802544.9135,
  "ymin": 3550709.467,
  "xmax": 2316504.9135,
  "ymax": 4501439.467,
  "spatialReference": {
   "wkt2": "PROJCRS[\"Fiji_1986_Transverse_Mercator\",BASEGEOGCRS[\"GCS_Fiji_1986\",DATUM[\"D_Fiji_1986\",ELLIPSOID[\"WGS_1972\",6378135.0,298.26,LENGTHUNIT[\"Meter\",1.0]]],PRIMEM[\"Greenwich\",0.0,ANGLEUNIT[\"Degree\",0.0174532925199433]],CS[ellipsoidal,2],AXIS[\"Latitude (lat)\",north,ORDER[1]],AXIS[\"Longitude (lon)\",east,ORDER[2]],ANGLEUNIT[\"Degree\",0.0174532925199433]],CONVERSION[\"Transverse_Mercator\",METHOD[\"Transverse_Mercator\"],PARAMETER[\"False_Easting\",2000000.0,LENGTHUNIT[\"Meter\",1.0]],PARAMETER[\"False_Northing\",4000000.0,LENGTHUNIT[\"Meter\",1.0]],PARAMETER[\"Central_Meridian\",178.75,ANGLEUNIT[\"Degree\",0.0174532925199433]],PARAMETER[\"Scale_Factor\",0.99985,SCALEUNIT[\"Unity\",1.0]],PARAMETER[\"Latitude_Of_Origin\",-17.0,ANGLEUNIT[\"Degree\",0.0174532925199433]]],CS[Cartesian,2],AXIS[\"Easting (X)\",east,ORDER[1]],AXIS[\"Northing (Y)\",north,ORDER[2]],LENGTHUNIT[\"Meter\",1.0]]",
   "wkt": "PROJCS[\"Fiji_1986_Transverse_Mercator\",GEOGCS[\"GCS_Fiji_1986\",DATUM[\"D_Fiji_1986\",SPHEROID[\"WGS_1972\",6378135.0,298.26]],PRIMEM[\"Greenwich\",0.0],UNIT[\"Degree\",0.0174532925199433]],PROJECTION[\"Transverse_Mercator\"],PARAMETER[\"False_Easting\",2000000.0],PARAMETER[\"False_Northing\",4000000.0],PARAMETER[\"Central_Meridian\",178.75],PARAMETER[\"Scale_Factor\",0.99985],PARAMETER[\"Latitude_Of_Origin\",-17.0],UNIT[\"Meter\",1.0]]"
  }
 },
 "initialExtent": {
  "xmin": 1802544.9135,
  "ymin": 3550709.467,
  "xmax": 2316504.9135,
  "ymax": 4501439.467,
  "spatialReference": {
   "wkt2": "PROJCRS[\"Fiji_1986_Transverse_Mercator\",BASEGEOGCRS[\"GCS_Fiji_1986\",DATUM[\"D_Fiji_1986\",ELLIPSOID[\"WGS_1972\",6378135.0,298.26,LENGTHUNIT[\"Meter\",1.0]]],PRIMEM[\"Greenwich\",0.0,ANGLEUNIT[\"Degree\",0.0174532925199433]],CS[ellipsoidal,2],AXIS[\"Latitude (lat)\",north,ORDER[1]],AXIS[\"Longitude (lon)\",east,ORDER[2]],ANGLEUNIT[\"Degree\",0.0174532925199433]],CONVERSION[\"Transverse_Mercator\",METHOD[\"Transverse_Mercator\"],PARAMETER[\"False_Easting\",2000000.0,LENGTHUNIT[\"Meter\",1.0]],PARAMETER[\"False_Northing\",4000000.0,LENGTHUNIT[\"Meter\",1.0]],PARAMETER[\"Central_Meridian\",178.75,ANGLEUNIT[\"Degree\",0.0174532925199433]],PARAMETER[\"Scale_Factor\",0.99985,SCALEUNIT[\"Unity\",1.0]],PARAMETER[\"Latitude_Of_Origin\",-17.0,ANGLEUNIT[\"Degree\",0.0174532925199433]]],CS[Cartesian,2],AXIS[\"Easting (X)\",east,ORDER[1]],AXIS[\"Northing (Y)\",north,ORDER[2]],LENGTHUNIT[\"Meter\",1.0]]",
   "wkt": "PROJCS[\"Fiji_1986_Transverse_Mercator\",GEOGCS[\"GCS_Fiji_1986\",DATUM[\"D_Fiji_1986\",SPHEROID[\"WGS_1972\",6378135.0,298.26]],PRIMEM[\"Greenwich\",0.0],UNIT[\"Degree\",0.0174532925199433]],PROJECTION[\"Transverse_Mercator\"],PARAMETER[\"False_Easting\",2000000.0],PARAMETER[\"False_Northing\",4000000.0],PARAMETER[\"Central_Meridian\",178.75],PARAMETER[\"Scale_Factor\",0.99985],PARAMETER[\"Latitude_Of_Origin\",-17.0],UNIT[\"Meter\",1.0]]"
  }
 },
 "fullExtent": {
  "xmin": 1802544.9135,
  "ymin": 3550709.467,
  "xmax": 2316504.9135,
  "ymax": 4501439.467,
  "spatialReference": {
   "wkt2": "PROJCRS[\"Fiji_1986_Transverse_Mercator\",BASEGEOGCRS[\"GCS_Fiji_1986\",DATUM[\"D_Fiji_1986\",ELLIPSOID[\"WGS_1972\",6378135.0,298.26,LENGTHUNIT[\"Meter\",1.0]]],PRIMEM[\"Greenwich\",0.0,ANGLEUNIT[\"Degree\",0.0174532925199433]],CS[ellipsoidal,2],AXIS[\"Latitude (lat)\",north,ORDER[1]],AXIS[\"Longitude (lon)\",east,ORDER[2]],ANGLEUNIT[\"Degree\",0.0174532925199433]],CONVERSION[\"Transverse_Mercator\",METHOD[\"Transverse_Mercator\"],PARAMETER[\"False_Easting\",2000000.0,LENGTHUNIT[\"Meter\",1.0]],PARAMETER[\"False_Northing\",4000000.0,LENGTHUNIT[\"Meter\",1.0]],PARAMETER[\"Central_Meridian\",178.75,ANGLEUNIT[\"Degree\",0.0174532925199433]],PARAMETER[\"Scale_Factor\",0.99985,SCALEUNIT[\"Unity\",1.0]],PARAMETER[\"Latitude_Of_Origin\",-17.0,ANGLEUNIT[\"Degree\",0.0174532925199433]]],CS[Cartesian,2],AXIS[\"Easting (X)\",east,ORDER[1]],AXIS[\"Northing (Y)\",north,ORDER[2]],LENGTHUNIT[\"Meter\",1.0]]",
   "wkt": "PROJCS[\"Fiji_1986_Transverse_Mercator\",GEOGCS[\"GCS_Fiji_1986\",DATUM[\"D_Fiji_1986\",SPHEROID[\"WGS_1972\",6378135.0,298.26]],PRIMEM[\"Greenwich\",0.0],UNIT[\"Degree\",0.0174532925199433]],PROJECTION[\"Transverse_Mercator\"],PARAMETER[\"False_Easting\",2000000.0],PARAMETER[\"False_Northing\",4000000.0],PARAMETER[\"Central_Meridian\",178.75],PARAMETER[\"Scale_Factor\",0.99985],PARAMETER[\"Latitude_Of_Origin\",-17.0],UNIT[\"Meter\",1.0]]"
  }
 },
 "sortableFields": "",
 "bandCount": 1,
 "pixelType": "F32",
 "minValues": [
  -41
 ],
 "maxValues": [
  1311
 ],
 "meanValues": [
  210.32568081764
 ],
 "stdvValues": [
  211.27335238656
 ],
 "serviceProperties": "Center<\/MosaicMethod>First<\/MosaicOperator>true<\/SortAscending><\/LockImageID><\/TileOrderField>0<\/TileOrderBase>0.000000<\/AvgImageSpacingX>0.000000<\/AvgImageSpacingY>0.0<\/ViewPointX>0.0<\/ViewPointY>0.0<\/ViewPointDefShiftX>0.0<\/ViewPointDefShiftY>None<\/CompressionMethod>75<\/CompressionQuality>0.010000<\/CompressionTolerance>Bilinear<\/SamplingMethod><\/ImageServiceProperties><\/ImageServer>",
 "allowedFields": "",
 "hasMultidimensions": false,
 "pixelSizeX": 29.999999999999986,
 "pixelSizeY": 30,
 "meanPixelSize": 29.999999999999993,
 "datasetFormat": "TIFF",
 "uncompressedSize": 2171720848,
 "blockWidth": 128,
 "blockHeight": 128,
 "compressionType": "None",
 "bandNames": [
  "Band_1"
 ],
 "allowCopy": true,
 "allowAnalysis": true,
 "itemAccess": false,
 "inspectionCapabilities": "",
 "noDataValue": -99999,
 "noDataValues": [
  -99999
 ],
 "minPixelSize": 0,
 "maxPixelSize": 0,
 "copyrightText": "",
 "serviceDataType": "esriImageServiceDataTypeGeneric",
 "serviceSourceType": "esriImageServiceSourceTypeDataset",
 "objectIdField": "",
 "fields": [],
 "capabilities": "Image,Metadata,Mensuration",
 "defaultMosaicMethod": "Center",
 "allowedMosaicMethods": "",
 "sortField": "",
 "sortValue": null,
 "sortAscending": true,
 "mosaicOperator": "First",
 "defaultCompressionQuality": 75,
 "defaultResamplingMethod": "Bilinear",
 "maxImageHeight": 4100,
 "maxImageWidth": 15000,
 "allowRasterFunction": true,
 "rasterFunctionInfos": [
  {
   "name": "Fill",
   "description": "Elevation Symbol",
   "help": ""
  },
  {
   "name": "None",
   "description": "",
   "help": ""
  }
 ],
 "rasterTypeInfos": [
  {
   "name": "Raster Dataset",
   "description": "Supports all ArcGIS Raster Datasets",
   "help": ""
  }
 ],
 "mensurationCapabilities": "Basic",
 "hasHistograms": true,
 "hasColormap": false,
 "hasRasterAttributeTable": false,
 "minScale": 0,
 "maxScale": 0,
 "exportTilesAllowed": false,
 "supportsStatistics": false,
 "supportsAdvancedQueries": false,
 "editFieldsInfo": null,
 "ownershipBasedAccessControlForRasters": null,
 "allowComputeTiePoints": false,
 "useStandardizedQueries": true,
 "advancedQueryCapabilities": {
  "useStandardizedQueries": true,
  "supportsStatistics": false,
  "supportsOrderBy": false,
  "supportsDistinct": false,
  "supportsPagination": false
 },
 "spatialReference": {
  "wkt2": "PROJCRS[\"Fiji_1986_Transverse_Mercator\",BASEGEOGCRS[\"GCS_Fiji_1986\",DATUM[\"D_Fiji_1986\",ELLIPSOID[\"WGS_1972\",6378135.0,298.26,LENGTHUNIT[\"Meter\",1.0]]],PRIMEM[\"Greenwich\",0.0,ANGLEUNIT[\"Degree\",0.0174532925199433]],CS[ellipsoidal,2],AXIS[\"Latitude (lat)\",north,ORDER[1]],AXIS[\"Longitude (lon)\",east,ORDER[2]],ANGLEUNIT[\"Degree\",0.0174532925199433]],CONVERSION[\"Transverse_Mercator\",METHOD[\"Transverse_Mercator\"],PARAMETER[\"False_Easting\",2000000.0,LENGTHUNIT[\"Meter\",1.0]],PARAMETER[\"False_Northing\",4000000.0,LENGTHUNIT[\"Meter\",1.0]],PARAMETER[\"Central_Meridian\",178.75,ANGLEUNIT[\"Degree\",0.0174532925199433]],PARAMETER[\"Scale_Factor\",0.99985,SCALEUNIT[\"Unity\",1.0]],PARAMETER[\"Latitude_Of_Origin\",-17.0,ANGLEUNIT[\"Degree\",0.0174532925199433]]],CS[Cartesian,2],AXIS[\"Easting (X)\",east,ORDER[1]],AXIS[\"Northing (Y)\",north,ORDER[2]],LENGTHUNIT[\"Meter\",1.0]]",
  "wkt": "PROJCS[\"Fiji_1986_Transverse_Mercator\",GEOGCS[\"GCS_Fiji_1986\",DATUM[\"D_Fiji_1986\",SPHEROID[\"WGS_1972\",6378135.0,298.26]],PRIMEM[\"Greenwich\",0.0],UNIT[\"Degree\",0.0174532925199433]],PROJECTION[\"Transverse_Mercator\"],PARAMETER[\"False_Easting\",2000000.0],PARAMETER[\"False_Northing\",4000000.0],PARAMETER[\"Central_Meridian\",178.75],PARAMETER[\"Scale_Factor\",0.99985],PARAMETER[\"Latitude_Of_Origin\",-17.0],UNIT[\"Meter\",1.0]]"
 }
}
