{
 "currentVersion": 11.5,
 "serviceDescription": "commonsensing/NASADEM_VUT_Efate",
 "serviceItemId": "2f2f8c6b01124ea9bb7dfedb5f529aa3",
 "name": "commonsensing/NASADEM_VUT_Efate",
 "description": "",
 "extent": {
  "xmin": 168.1523611111111,
  "ymin": -17.830138888888882,
  "xmax": 168.59819444444443,
  "ymax": -17.40736111111111,
  "spatialReference": {
   "wkid": 4326,
   "latestWkid": 4326
  }
 },
 "initialExtent": {
  "xmin": 168.1523611111111,
  "ymin": -17.830138888888882,
  "xmax": 168.59819444444443,
  "ymax": -17.40736111111111,
  "spatialReference": {
   "wkid": 4326,
   "latestWkid": 4326
  }
 },
 "fullExtent": {
  "xmin": 168.1523611111111,
  "ymin": -17.830138888888882,
  "xmax": 168.59819444444443,
  "ymax": -17.40736111111111,
  "spatialReference": {
   "wkid": 4326,
   "latestWkid": 4326
  }
 },
 "sortableFields": "",
 "bandCount": 1,
 "pixelType": "S16",
 "minValues": [
  -22
 ],
 "maxValues": [
  652
 ],
 "meanValues": [
  144.92845032692
 ],
 "stdvValues": [
  124.17761720854
 ],
 "serviceProperties": "Center<\/MosaicMethod>First<\/MosaicOperator>true<\/SortAscending><\/LockImageID><\/TileOrderField>0<\/TileOrderBase>0.000000<\/AvgImageSpacingX>0.000000<\/AvgImageSpacingY>0.0<\/ViewPointX>0.0<\/ViewPointY>0.0<\/ViewPointDefShiftX>0.0<\/ViewPointDefShiftY>None<\/CompressionMethod>75<\/CompressionQuality>0.010000<\/CompressionTolerance>Bilinear<\/SamplingMethod><\/ImageServiceProperties><\/ImageServer>",
 "allowedFields": "",
 "hasMultidimensions": false,
 "pixelSizeX": 2.7777777777777306E-4,
 "pixelSizeY": 2.7777777777777333E-4,
 "meanPixelSize": 30.92208077590881,
 "datasetFormat": "TIFF",
 "uncompressedSize": 4885620,
 "blockWidth": 128,
 "blockHeight": 128,
 "compressionType": "LZW",
 "bandNames": [
  "Band_1"
 ],
 "allowCopy": true,
 "allowAnalysis": true,
 "itemAccess": false,
 "inspectionCapabilities": "",
 "noDataValue": 0,
 "noDataValues": [
  0
 ],
 "minPixelSize": 0,
 "maxPixelSize": 0,
 "copyrightText": "",
 "serviceDataType": "esriImageServiceDataTypeGeneric",
 "serviceSourceType": "esriImageServiceSourceTypeDataset",
 "objectIdField": "",
 "fields": [],
 "capabilities": "Image,Metadata,Mensuration",
 "defaultMosaicMethod": "Center",
 "allowedMosaicMethods": "",
 "sortField": "",
 "sortValue": null,
 "sortAscending": true,
 "mosaicOperator": "First",
 "defaultCompressionQuality": 75,
 "defaultResamplingMethod": "Bilinear",
 "maxImageHeight": 4100,
 "maxImageWidth": 15000,
 "allowRasterFunction": true,
 "rasterFunctionInfos": [
  {
   "name": "None",
   "description": "",
   "help": ""
  }
 ],
 "rasterTypeInfos": [
  {
   "name": "Raster Dataset",
   "description": "Supports all ArcGIS Raster Datasets",
   "help": ""
  }
 ],
 "mensurationCapabilities": "Basic",
 "hasHistograms": true,
 "hasColormap": false,
 "hasRasterAttributeTable": false,
 "minScale": 0,
 "maxScale": 0,
 "exportTilesAllowed": false,
 "supportsStatistics": false,
 "supportsAdvancedQueries": false,
 "editFieldsInfo": null,
 "ownershipBasedAccessControlForRasters": null,
 "allowComputeTiePoints": false,
 "useStandardizedQueries": true,
 "advancedQueryCapabilities": {
  "useStandardizedQueries": true,
  "supportsStatistics": false,
  "supportsOrderBy": false,
  "supportsDistinct": false,
  "supportsPagination": false
 },
 "spatialReference": {
  "wkid": 4326,
  "latestWkid": 4326
 }
}
