{
 "currentVersion": 11.5,
 "serviceDescription": "commonsensing/SB009_Lungga_HydroDEM",
 "serviceItemId": "79ba43c6231946e48c9a5814237e8fa8",
 "name": "commonsensing/SB009_Lungga_HydroDEM",
 "description": "",
 "extent": {
  "xmin": 576775,
  "ymin": 8934237.5,
  "xmax": 615825,
  "ymax": 8960112.5,
  "spatialReference": {
   "wkid": 32757,
   "latestWkid": 32757
  }
 },
 "initialExtent": {
  "xmin": 576775,
  "ymin": 8934237.5,
  "xmax": 615825,
  "ymax": 8960112.5,
  "spatialReference": {
   "wkid": 32757,
   "latestWkid": 32757
  }
 },
 "fullExtent": {
  "xmin": 576775,
  "ymin": 8934237.5,
  "xmax": 615825,
  "ymax": 8960112.5,
  "spatialReference": {
   "wkid": 32757,
   "latestWkid": 32757
  }
 },
 "sortableFields": "",
 "bandCount": 1,
 "pixelType": "F32",
 "minValues": [
  -3.896394729614258
 ],
 "maxValues": [
  1647.9344482421875
 ],
 "meanValues": [
  525.8920053346686
 ],
 "stdvValues": [
  266.255008026808
 ],
 "serviceProperties": "Center<\/MosaicMethod>First<\/MosaicOperator>true<\/SortAscending><\/LockImageID><\/TileOrderField>0<\/TileOrderBase>0.000000<\/AvgImageSpacingX>0.000000<\/AvgImageSpacingY>0.0<\/ViewPointX>0.0<\/ViewPointY>0.0<\/ViewPointDefShiftX>0.0<\/ViewPointDefShiftY>None<\/CompressionMethod>75<\/CompressionQuality>0.010000<\/CompressionTolerance>Bilinear<\/SamplingMethod><\/ImageServiceProperties><\/ImageServer>",
 "allowedFields": "",
 "hasMultidimensions": false,
 "pixelSizeX": 12.5,
 "pixelSizeY": 12.5,
 "meanPixelSize": 12.5,
 "datasetFormat": "FGDBR",
 "uncompressedSize": 25866720,
 "blockWidth": 128,
 "blockHeight": 128,
 "compressionType": "NONE",
 "bandNames": [
  "Band_1"
 ],
 "allowCopy": true,
 "allowAnalysis": true,
 "itemAccess": false,
 "inspectionCapabilities": "",
 "minPixelSize": 0,
 "maxPixelSize": 0,
 "copyrightText": "",
 "serviceDataType": "esriImageServiceDataTypeGeneric",
 "serviceSourceType": "esriImageServiceSourceTypeDataset",
 "objectIdField": "",
 "fields": [],
 "capabilities": "Image,Metadata,Mensuration",
 "defaultMosaicMethod": "Center",
 "allowedMosaicMethods": "",
 "sortField": "",
 "sortValue": null,
 "sortAscending": true,
 "mosaicOperator": "First",
 "defaultCompressionQuality": 75,
 "defaultResamplingMethod": "Bilinear",
 "maxImageHeight": 4100,
 "maxImageWidth": 15000,
 "allowRasterFunction": true,
 "rasterFunctionInfos": [
  {
   "name": "Hillshade",
   "description": "Creates a 3D representation of the surface, with the sun's relative position taken into account for shading the image.",
   "help": ""
  },
  {
   "name": "None",
   "description": "",
   "help": ""
  }
 ],
 "rasterTypeInfos": [
  {
   "name": "Raster Dataset",
   "description": "Supports all ArcGIS Raster Datasets",
   "help": ""
  }
 ],
 "mensurationCapabilities": "Basic",
 "hasHistograms": true,
 "hasColormap": false,
 "hasRasterAttributeTable": false,
 "minScale": 0,
 "maxScale": 0,
 "exportTilesAllowed": false,
 "supportsStatistics": false,
 "supportsAdvancedQueries": false,
 "editFieldsInfo": null,
 "ownershipBasedAccessControlForRasters": null,
 "allowComputeTiePoints": false,
 "useStandardizedQueries": true,
 "advancedQueryCapabilities": {
  "useStandardizedQueries": true,
  "supportsStatistics": false,
  "supportsOrderBy": false,
  "supportsDistinct": false,
  "supportsPagination": false
 },
 "spatialReference": {
  "wkid": 32757,
  "latestWkid": 32757
 }
}
