{
 "currentVersion": 11.5,
 "serviceDescription": "commonsensing/Storm_Surge_Low_Elev_6500mm_SRTM",
 "serviceItemId": "072cea85f6e642bfb27fe85b63179589",
 "name": "commonsensing/Storm_Surge_Low_Elev_6500mm_SRTM",
 "description": "",
 "extent": {
  "xmin": 1802326.3357662265,
  "ymin": 3550500.746272224,
  "xmax": 2316736.335766227,
  "ymax": 4501650.746272225,
  "spatialReference": {
   "wkid": 3460,
   "latestWkid": 3460
  }
 },
 "initialExtent": {
  "xmin": 1802326.3357662265,
  "ymin": 3550500.746272224,
  "xmax": 2316736.335766227,
  "ymax": 4501650.746272225,
  "spatialReference": {
   "wkid": 3460,
   "latestWkid": 3460
  }
 },
 "fullExtent": {
  "xmin": 1802326.3357662265,
  "ymin": 3550500.746272224,
  "xmax": 2316736.335766227,
  "ymax": 4501650.746272225,
  "spatialReference": {
   "wkid": 3460,
   "latestWkid": 3460
  }
 },
 "sortableFields": "",
 "bandCount": 1,
 "pixelType": "U8",
 "minValues": [
  0
 ],
 "maxValues": [
  1
 ],
 "meanValues": [
  0.08706869270768106
 ],
 "stdvValues": [
  0.28193570024023196
 ],
 "serviceProperties": "Center<\/MosaicMethod>First<\/MosaicOperator>true<\/SortAscending><\/LockImageID><\/TileOrderField>0<\/TileOrderBase>0.000000<\/AvgImageSpacingX>0.000000<\/AvgImageSpacingY>0.0<\/ViewPointX>0.0<\/ViewPointY>0.0<\/ViewPointDefShiftX>0.0<\/ViewPointDefShiftY>None<\/CompressionMethod>75<\/CompressionQuality>0.010000<\/CompressionTolerance>Bilinear<\/SamplingMethod><\/ImageServiceProperties><\/ImageServer>",
 "allowedFields": "",
 "hasMultidimensions": false,
 "pixelSizeX": 30.00000000000003,
 "pixelSizeY": 30.00000000000003,
 "meanPixelSize": 30.00000000000003,
 "datasetFormat": "FGDBR",
 "uncompressedSize": 543645635,
 "blockWidth": 128,
 "blockHeight": 128,
 "compressionType": "LZ77",
 "bandNames": [
  "Band_1"
 ],
 "allowCopy": true,
 "allowAnalysis": true,
 "itemAccess": false,
 "inspectionCapabilities": "",
 "minPixelSize": 0,
 "maxPixelSize": 0,
 "copyrightText": "",
 "serviceDataType": "esriImageServiceDataTypeGeneric",
 "serviceSourceType": "esriImageServiceSourceTypeDataset",
 "objectIdField": "",
 "fields": [],
 "capabilities": "Image,Metadata,Mensuration",
 "defaultMosaicMethod": "Center",
 "allowedMosaicMethods": "",
 "sortField": "",
 "sortValue": null,
 "sortAscending": true,
 "mosaicOperator": "First",
 "defaultCompressionQuality": 75,
 "defaultResamplingMethod": "Bilinear",
 "maxImageHeight": 4100,
 "maxImageWidth": 15000,
 "allowRasterFunction": true,
 "rasterFunctionInfos": [
  {
   "name": "None",
   "description": "",
   "help": ""
  }
 ],
 "rasterTypeInfos": [
  {
   "name": "Raster Dataset",
   "description": "Supports all ArcGIS Raster Datasets",
   "help": ""
  }
 ],
 "mensurationCapabilities": "Basic",
 "hasHistograms": true,
 "hasColormap": false,
 "hasRasterAttributeTable": true,
 "minScale": 0,
 "maxScale": 0,
 "exportTilesAllowed": false,
 "supportsStatistics": false,
 "supportsAdvancedQueries": false,
 "editFieldsInfo": null,
 "ownershipBasedAccessControlForRasters": null,
 "allowComputeTiePoints": false,
 "useStandardizedQueries": true,
 "advancedQueryCapabilities": {
  "useStandardizedQueries": true,
  "supportsStatistics": false,
  "supportsOrderBy": false,
  "supportsDistinct": false,
  "supportsPagination": false
 },
 "spatialReference": {
  "wkid": 3460,
  "latestWkid": 3460
 }
}
