<?xml version="1.0" encoding="UTF-8" standalone="no"?>
<metadata xml:lang="en">
<Esri>
<CreaDate>20200325</CreaDate>
<CreaTime>15484500</CreaTime>
<ArcGISFormat>1.0</ArcGISFormat>
<SyncOnce>FALSE</SyncOnce>
<DataProperties>
<itemProps>
<itemName Sync="TRUE">Clip_hydro_dem</itemName>
<imsContentType Sync="TRUE">002</imsContentType>
<nativeExtBox>
<westBL Sync="TRUE">710312.687500</westBL>
<eastBL Sync="TRUE">733837.687500</eastBL>
<southBL Sync="TRUE">8282229.750000</southBL>
<northBL Sync="TRUE">8303854.750000</northBL>
<exTypeCode Sync="TRUE">1</exTypeCode>
</nativeExtBox>
<itemLocation>
<linkage Sync="TRUE">file://\\DESKTOP-UQMM3D0\D$\Projects\2018_2021_CommonSensing\530_Technical_Backstopping\Vanuatu\VU005_Hydrologic_Network\Workspace\Hydro_Out\Hydro_Out.gdb</linkage>
<protocol Sync="TRUE">Local Area Network</protocol>
</itemLocation>
</itemProps>
<coordRef>
<type Sync="TRUE">Projected</type>
<geogcsn Sync="TRUE">GCS_WGS_1984</geogcsn>
<csUnits Sync="TRUE">Linear Unit: Meter (1.000000)</csUnits>
<projcsn Sync="TRUE">WGS_1984_UTM_Zone_58S</projcsn>
<peXml Sync="TRUE">&lt;ProjectedCoordinateSystem xsi:type='typens:ProjectedCoordinateSystem' xmlns:xsi='http://www.w3.org/2001/XMLSchema-instance' xmlns:xs='http://www.w3.org/2001/XMLSchema' xmlns:typens='http://www.esri.com/schemas/ArcGIS/2.5.0'&gt;&lt;WKT&gt;PROJCS[&amp;quot;WGS_1984_UTM_Zone_58S&amp;quot;,GEOGCS[&amp;quot;GCS_WGS_1984&amp;quot;,DATUM[&amp;quot;D_WGS_1984&amp;quot;,SPHEROID[&amp;quot;WGS_1984&amp;quot;,6378137.0,298.257223563]],PRIMEM[&amp;quot;Greenwich&amp;quot;,0.0],UNIT[&amp;quot;Degree&amp;quot;,0.0174532925199433]],PROJECTION[&amp;quot;Transverse_Mercator&amp;quot;],PARAMETER[&amp;quot;False_Easting&amp;quot;,500000.0],PARAMETER[&amp;quot;False_Northing&amp;quot;,10000000.0],PARAMETER[&amp;quot;Central_Meridian&amp;quot;,165.0],PARAMETER[&amp;quot;Scale_Factor&amp;quot;,0.9996],PARAMETER[&amp;quot;Latitude_Of_Origin&amp;quot;,0.0],UNIT[&amp;quot;Meter&amp;quot;,1.0],AUTHORITY[&amp;quot;EPSG&amp;quot;,32758]]&lt;/WKT&gt;&lt;XOrigin&gt;-5120900&lt;/XOrigin&gt;&lt;YOrigin&gt;1900&lt;/YOrigin&gt;&lt;XYScale&gt;450445547.3910538&lt;/XYScale&gt;&lt;ZOrigin&gt;-100000&lt;/ZOrigin&gt;&lt;ZScale&gt;10000&lt;/ZScale&gt;&lt;MOrigin&gt;-100000&lt;/MOrigin&gt;&lt;MScale&gt;10000&lt;/MScale&gt;&lt;XYTolerance&gt;0.001&lt;/XYTolerance&gt;&lt;ZTolerance&gt;0.001&lt;/ZTolerance&gt;&lt;MTolerance&gt;0.001&lt;/MTolerance&gt;&lt;HighPrecision&gt;true&lt;/HighPrecision&gt;&lt;WKID&gt;32758&lt;/WKID&gt;&lt;LatestWKID&gt;32758&lt;/LatestWKID&gt;&lt;/ProjectedCoordinateSystem&gt;</peXml>
</coordRef>
<lineage>
<Process Date="20200325" Time="154845" ToolSource="c:\program files (x86)\arcgis\desktop10.8\ArcToolbox\Toolboxes\Data Management Tools.tbx\CopyRaster">CopyRaster D:\Projects\2018_2021_CommonSensing\530_Technical_Backstopping\Vanuatu\VU005_Hydrologic_Network\Pre_Processed_1\Output\dem_reconditioned.tif D:\Projects\2018_2021_CommonSensing\530_Technical_Backstopping\Vanuatu\VU005_Hydrologic_Network\Workspace\Hydro_Out\Hydro_Out.gdb\dem_reconditioned # # -9.999900e+04 NONE NONE # NONE NONE "Esri Grid" NONE</Process>
<Process Date="20200325" Time="154917" ToolSource="c:\program files\arcgis\pro\Resources\ArcToolbox\toolboxes\Data Management Tools.tbx\Rename">Rename D:\Projects\2018_2021_CommonSensing\530_Technical_Backstopping\Vanuatu\VU005_Hydrologic_Network\Workspace\Hydro_Out\Hydro_Out.gdb\dem_reconditioned D:\Projects\2018_2021_CommonSensing\530_Technical_Backstopping\Vanuatu\VU005_Hydrologic_Network\Workspace\Hydro_Out\Hydro_Out.gdb\hydro_dem RasterDataset</Process>
<Process Date="20200325" Name="Clip Raster" Time="155323" ToolSource="c:\program files\arcgis\pro\Resources\ArcToolbox\toolboxes\Data Management Tools.tbx\Clip">Clip hydro_dem "710312.6875 8282229.75 733837.6875 8303854.75" D:\Projects\2018_2021_CommonSensing\530_Technical_Backstopping\Vanuatu\VU005_Hydrologic_Network\Workspace\Hydro_Out\Hydro_Out.gdb\Clip_hydro_dem Sarakata_WS # ClippingGeometry NO_MAINTAIN_EXTENT</Process>
<Process Date="20200326" Time="104854" ToolSource="c:\program files\arcgis\pro\Resources\ArcToolbox\toolboxes\Data Management Tools.tbx\Rename">Rename D:\Projects\2018_2021_CommonSensing\530_Technical_Backstopping\Vanuatu\VU005_Hydrologic_Network\Workspace\Hydro_Out\Hydro_Out.gdb\Clip_hydro_dem D:\Projects\2018_2021_CommonSensing\530_Technical_Backstopping\Vanuatu\VU005_Hydrologic_Network\Workspace\Hydro_Out\Hydro_Out.gdb\hydro_dem RasterDataset</Process>
</lineage>
</DataProperties>
<SyncDate>20200325</SyncDate>
<SyncTime>15532300</SyncTime>
<ModDate>20200325</ModDate>
<ModTime>15532300</ModTime>
</Esri>
<dataIdInfo>
<envirDesc Sync="TRUE">Microsoft Windows 10 Version 10.0 (Build 18362) ; Esri ArcGIS 12.5.0.22081</envirDesc>
<dataLang>
<languageCode Sync="TRUE" value="eng"/>
<countryCode Sync="TRUE" value="GBR"/>
</dataLang>
<idCitation>
<resTitle Sync="TRUE">VU005_Sarakata_DEM</resTitle>
<presForm>
<PresFormCd Sync="TRUE" value="011"/>
</presForm>
</idCitation>
<spatRpType>
<SpatRepTypCd Sync="TRUE" value="002"/>
</spatRpType>
<dataExt>
<geoEle>
<GeoBndBox esriExtentType="search">
<exTypeCode Sync="TRUE">1</exTypeCode>
<westBL Sync="TRUE">166.958999</westBL>
<eastBL Sync="TRUE">167.180058</eastBL>
<northBL Sync="TRUE">-15.331299</northBL>
<southBL Sync="TRUE">-15.528723</southBL>
</GeoBndBox>
</geoEle>
</dataExt>
<idAbs/>
<searchKeys>
<keyword>DEM</keyword>
</searchKeys>
<idPurp>DEM, Elevation</idPurp>
<idCredit>© 2020 Maxar, NextView License</idCredit>
<resConst>
<Consts>
<useLimit/>
</Consts>
</resConst>
</dataIdInfo>
<mdLang>
<languageCode Sync="TRUE" value="eng"/>
<countryCode Sync="TRUE" value="GBR"/>
</mdLang>
<distInfo>
<distFormat>
<formatName Sync="TRUE">File Geodatabase Raster Dataset</formatName>
</distFormat>
</distInfo>
<mdHrLv>
<ScopeCd Sync="TRUE" value="005"/>
</mdHrLv>
<mdHrLvName Sync="TRUE">dataset</mdHrLvName>
<refSysInfo>
<RefSystem>
<refSysID>
<identCode Sync="TRUE" code="32758"/>
<idCodeSpace Sync="TRUE">EPSG</idCodeSpace>
<idVersion Sync="TRUE">2.1(3.0.1)</idVersion>
</refSysID>
</RefSystem>
</refSysInfo>
<spdoinfo>
<rastinfo>
<rasttype Sync="TRUE">Pixel</rasttype>
<rowcount Sync="TRUE">1730</rowcount>
<colcount Sync="TRUE">1882</colcount>
<rastxsz Sync="TRUE">12.500000</rastxsz>
<rastysz Sync="TRUE">12.500000</rastysz>
<rastbpp Sync="TRUE">32</rastbpp>
<vrtcount Sync="TRUE">1</vrtcount>
<rastorig Sync="TRUE">Upper Left</rastorig>
<rastcmap Sync="TRUE">FALSE</rastcmap>
<rastcomp Sync="TRUE">LZ77</rastcomp>
<rastband Sync="TRUE">1</rastband>
<rastdtyp Sync="TRUE">pixel codes</rastdtyp>
<rastifor Sync="TRUE">FGDBR</rastifor>
<rastplyr Sync="TRUE">TRUE</rastplyr>
</rastinfo>
</spdoinfo>
<spref>
<horizsys>
<planar>
<planci>
<plance Sync="TRUE">row and column</plance>
<coordrep>
<absres Sync="TRUE">12.500000</absres>
<ordres Sync="TRUE">12.500000</ordres>
</coordrep>
</planci>
</planar>
</horizsys>
</spref>
<mdDateSt Sync="TRUE">20200325</mdDateSt>
</metadata>
