{
 "currentVersion": 11.5,
 "serviceDescription": "commonsensing/VU005_Sarakata_HydroDEM",
 "serviceItemId": "473e122d9f144e90ac39e059660bc785",
 "name": "commonsensing/VU005_Sarakata_HydroDEM",
 "description": "",
 "extent": {
  "xmin": 710312.6875,
  "ymin": 8282229.75,
  "xmax": 733837.6875,
  "ymax": 8303854.75,
  "spatialReference": {
   "wkid": 32758,
   "latestWkid": 32758
  }
 },
 "initialExtent": {
  "xmin": 710312.6875,
  "ymin": 8282229.75,
  "xmax": 733837.6875,
  "ymax": 8303854.75,
  "spatialReference": {
   "wkid": 32758,
   "latestWkid": 32758
  }
 },
 "fullExtent": {
  "xmin": 710312.6875,
  "ymin": 8282229.75,
  "xmax": 733837.6875,
  "ymax": 8303854.75,
  "spatialReference": {
   "wkid": 32758,
   "latestWkid": 32758
  }
 },
 "sortableFields": "",
 "bandCount": 1,
 "pixelType": "U16",
 "minValues": [
  1
 ],
 "maxValues": [
  39
 ],
 "meanValues": [
  12.962507029198209
 ],
 "stdvValues": [
  7.855690698368759
 ],
 "serviceProperties": "Center<\/MosaicMethod>First<\/MosaicOperator>true<\/SortAscending><\/LockImageID><\/TileOrderField>0<\/TileOrderBase>0.000000<\/AvgImageSpacingX>0.000000<\/AvgImageSpacingY>0.0<\/ViewPointX>0.0<\/ViewPointY>0.0<\/ViewPointDefShiftX>0.0<\/ViewPointDefShiftY>None<\/CompressionMethod>75<\/CompressionQuality>0.010000<\/CompressionTolerance>Bilinear<\/SamplingMethod><\/ImageServiceProperties><\/ImageServer>",
 "allowedFields": "",
 "hasMultidimensions": false,
 "pixelSizeX": 12.5,
 "pixelSizeY": 12.5,
 "meanPixelSize": 12.5,
 "datasetFormat": "FGDBR",
 "uncompressedSize": 6511720,
 "blockWidth": 128,
 "blockHeight": 128,
 "compressionType": "LZ77",
 "bandNames": [
  "Band_1"
 ],
 "allowCopy": true,
 "allowAnalysis": true,
 "itemAccess": false,
 "inspectionCapabilities": "",
 "minPixelSize": 0,
 "maxPixelSize": 0,
 "copyrightText": "",
 "serviceDataType": "esriImageServiceDataTypeThematic",
 "serviceSourceType": "esriImageServiceSourceTypeDataset",
 "objectIdField": "",
 "fields": [],
 "capabilities": "Mensuration,Image,Metadata",
 "defaultMosaicMethod": "Center",
 "allowedMosaicMethods": "",
 "sortField": "",
 "sortValue": null,
 "sortAscending": true,
 "mosaicOperator": "First",
 "defaultCompressionQuality": 75,
 "defaultResamplingMethod": "Bilinear",
 "maxImageHeight": 4100,
 "maxImageWidth": 15000,
 "allowRasterFunction": true,
 "rasterFunctionInfos": [
  {
   "name": "None",
   "description": "Make a Raster or Raster Dataset into a Function Raster Dataset.",
   "help": ""
  }
 ],
 "rasterTypeInfos": [
  {
   "name": "Raster Dataset",
   "description": "Supports all ArcGIS Raster Datasets",
   "help": ""
  }
 ],
 "mensurationCapabilities": "Basic",
 "hasHistograms": true,
 "hasColormap": true,
 "hasRasterAttributeTable": true,
 "minScale": 0,
 "maxScale": 0,
 "exportTilesAllowed": false,
 "supportsStatistics": false,
 "supportsAdvancedQueries": false,
 "editFieldsInfo": null,
 "ownershipBasedAccessControlForRasters": null,
 "allowComputeTiePoints": false,
 "useStandardizedQueries": true,
 "advancedQueryCapabilities": {
  "useStandardizedQueries": true,
  "supportsStatistics": false,
  "supportsOrderBy": false,
  "supportsDistinct": false,
  "supportsPagination": false
 },
 "spatialReference": {
  "wkid": 32758,
  "latestWkid": 32758
 }
}
