View In:
ArcGIS JavaScript
ArcGIS Online Map Viewer
ArcGIS Earth
Service Description: HAND/Flood_Susceptibility
Name: HAND/Flood_Susceptibility
Description:
Single Fused Map Cache: false
Extent:
XMin: 93.60512961135227
YMin: 16.349861101171008
XMax: 98.38985183740226
YMax: 27.71208333248299
Spatial Reference: 4326
(4326)
LatestVCSWkid(0)
Initial Extent:
XMin: 93.60512961135227
YMin: 16.349861101171008
XMax: 98.38985183740226
YMax: 27.71208333248299
Spatial Reference: 4326
(4326)
LatestVCSWkid(0)
Full Extent:
XMin: 93.60512961135227
YMin: 16.349861101171008
XMax: 98.38985183740226
YMax: 27.71208333248299
Spatial Reference: 4326
(4326)
LatestVCSWkid(0)
Pixel Size X: 2.777777779999996E-4
Pixel Size Y: 2.7777777799999954E-4
Band Count: 1
Pixel Type: U16
RasterFunction Infos: {"rasterFunctionInfos": [{
"name": "None",
"description": "",
"help": ""
}]}
Mensuration Capabilities: Basic
Inspection Capabilities:
Has Histograms: true
Has Colormap: false
Has Multi Dimensions : false
Rendering Rule:
Min Scale: 0
Max Scale: 0
Resampling: false
Copyright Text: United Nations Satellite Centre UNOSAT | UNITAR
Service Data Type: esriImageServiceDataTypeGeneric
Min Values: 0
Max Values: 5
Mean Values: 0.15598013918933
Standard Deviation Values: 0.80533251804138
Object ID Field:
Fields:
None
Default Mosaic Method: Center
Allowed Mosaic Methods:
SortField:
SortValue: null
Mosaic Operator: First
Default Compression Quality: 75
Default Resampling Method: Bilinear
Max Record Count: null
Max Image Height: 4100
Max Image Width: 15000
Max Download Image Count: null
Max Mosaic Image Count: null
Allow Raster Function: true
Allow Copy: true
Allow Analysis: true
Allow Compute TiePoints: false
Supports Statistics: false
Supports Advanced Queries: false
Use StandardizedQueries: true
Raster Type Infos:
Name: Raster Dataset
Description: Supports all ArcGIS Raster Datasets
Help:
Has Raster Attribute Table: true
Edit Fields Info: null
Ownership Based AccessControl For Rasters: null
Child Resources:
Info
Raster Attribute Table
Histograms
Statistics
Key Properties
Legend
Raster Function Infos
Supported Operations:
Export Image
Identify
Measure
Compute Histograms
Compute Statistics Histograms
Get Samples
Compute Class Statistics
Query Boundary
Compute Pixel Location
Compute Angles
Validate
Project