View In:
ArcGIS JavaScript
ArcGIS Online Map Viewer
ArcGIS Earth
Service Description: NORAD/BTN_S1_S2_LC
Name: NORAD/BTN_S1_S2_LC
Description:
Single Fused Map Cache: false
Extent:
XMin: 9968146.382437106
YMin: 3168410.7671965538
XMax: 9989606.382437106
YMax: 3198190.7671965538
Spatial Reference: 102100
(3857)
LatestVCSWkid(0)
Initial Extent:
XMin: 9968146.382437106
YMin: 3168410.7671965538
XMax: 9989606.382437106
YMax: 3198190.7671965538
Spatial Reference: 102100
(3857)
LatestVCSWkid(0)
Full Extent:
XMin: 9968146.382437106
YMin: 3168410.7671965538
XMax: 9989606.382437106
YMax: 3198190.7671965538
Spatial Reference: 102100
(3857)
LatestVCSWkid(0)
Time Info:
Start Time Field: StartDate
End Time Field: EndDate
Time Extent:
[2016/01/01 12:00:00 UTC, 2020/12/31 11:59:59 UTC]
Time Reference:
N/A
Pixel Size X: 10.0
Pixel Size Y: 10.0
Band Count: 1
Pixel Type: U8
RasterFunction Infos: {"rasterFunctionInfos": [
{
"name": "Cartographic Renderer - Legend and Attribute Table",
"description": "Legend and attribute table for Sentinel 2 10m Land Cover.",
"help": ""
},
{
"name": "Alpine Scrubs Only",
"description": "Shows only areas of alpine scrubs (class 1).",
"help": ""
},
{
"name": "Built Up Only",
"description": "Shows only built up areas (class 2).",
"help": ""
},
{
"name": "Converted Lands Only",
"description": "Shows only built up and cultivated areas (class 2 and 3).",
"help": ""
},
{
"name": "Cultivated Area Only",
"description": "Shows only areas of cultivated area (class 3).",
"help": ""
},
{
"name": "Forests Only",
"description": "Shows only areas of forests (class 4).",
"help": ""
},
{
"name": "Meadows Only",
"description": "Shows only areas of meadows (class 5).",
"help": ""
},
{
"name": "Non Built Up Only",
"description": "Shows only non built up areas (class 6).",
"help": ""
},
{
"name": "Shrubs Only",
"description": "Shows only areas of shrubs (class 7).",
"help": ""
},
{
"name": "Water Bodies Only",
"description": "Show only areas of water bodies (class 8).",
"help": ""
},
{
"name": "None",
"description": "",
"help": ""
}
]}
Mensuration Capabilities: Basic
Inspection Capabilities:
Has Histograms: true
Has Colormap: false
Has Multi Dimensions : false
Rendering Rule:
Min Scale: 0
Max Scale: 0
Copyright Text:
Service Data Type: esriImageServiceDataTypeGeneric
Min Values: 0
Max Values: 8
Mean Values: 2.638401857539237
Standard Deviation Values: 2.194051900823883
Object ID Field: OBJECTID
Fields:
-
OBJECTID
(
type: esriFieldTypeOID, alias: OBJECTID
)
-
Shape
(
type: esriFieldTypeGeometry, alias: Shape
)
-
Name
(
type: esriFieldTypeString, alias: Name, length: 200
)
-
MinPS
(
type: esriFieldTypeDouble, alias: MinPS
)
-
MaxPS
(
type: esriFieldTypeDouble, alias: MaxPS
)
-
LowPS
(
type: esriFieldTypeDouble, alias: LowPS
)
-
HighPS
(
type: esriFieldTypeDouble, alias: HighPS
)
-
Category
(
type: esriFieldTypeInteger, alias: Category
, Coded Values:
[0: Unknown]
, [1: Primary]
, [2: Overview]
, ...6 more...
)
-
Tag
(
type: esriFieldTypeString, alias: Tag, length: 100
)
-
GroupName
(
type: esriFieldTypeString, alias: GroupName, length: 100
)
-
ProductName
(
type: esriFieldTypeString, alias: ProductName, length: 100
)
-
CenterX
(
type: esriFieldTypeDouble, alias: CenterX
)
-
CenterY
(
type: esriFieldTypeDouble, alias: CenterY
)
-
ZOrder
(
type: esriFieldTypeInteger, alias: ZOrder
)
-
Shape_Length
(
type: esriFieldTypeDouble, alias: Shape_Length
)
-
Shape_Area
(
type: esriFieldTypeDouble, alias: Shape_Area
)
Default Mosaic Method: Northwest
Allowed Mosaic Methods: NorthWest,Center,LockRaster,ByAttribute,Nadir,Viewpoint,Seamline,None
SortField:
SortValue: null
Mosaic Operator: First
Default Compression Quality: 75
Default Resampling Method: Nearest
Max Record Count: 1000
Max Image Height: 4100
Max Image Width: 15000
Max Download Image Count: 20
Max Mosaic Image Count: 20
Allow Raster Function: true
Allow Copy: true
Allow Analysis: true
Allow Compute TiePoints: false
Supports Statistics: true
Supports Advanced Queries: true
Use StandardizedQueries: true
Raster Type Infos:
Name: Raster Dataset
Description: Supports all ArcGIS Raster Datasets
Help:
Has Raster Attribute Table: false
Edit Fields Info: null
Ownership Based AccessControl For Rasters: null
Child Resources:
Info
Histograms
Statistics
Key Properties
Legend
Raster Function Infos
Supported Operations:
Export Image
Query
Identify
Measure
Compute Histograms
Compute Statistics Histograms
Get Samples
Compute Class Statistics
Query GPS Info
Find Images
Image to Map
Map to Image
Measure from Image
Image to Map Multiray
Query Boundary
Compute Pixel Location
Compute Angles
Validate
Project