View In:
ArcGIS JavaScript
ArcGIS Online Map Viewer
ArcGIS Earth
Service Description: UNDP/SDN_MCDA
Name: UNDP/SDN_MCDA
Description:
Single Fused Map Cache: false
Extent:
XMin: 3808834.6201859117
YMin: 1597886.994636477
XMax: 4122304.6201859117
YMax: 1944986.994636477
Spatial Reference: 102100
(3857)
LatestVCSWkid(0)
Initial Extent:
XMin: 3808834.6201859117
YMin: 1597886.994636477
XMax: 4122304.6201859117
YMax: 1944986.994636477
Spatial Reference: 102100
(3857)
LatestVCSWkid(0)
Full Extent:
XMin: 3808834.6201859117
YMin: 1597886.994636477
XMax: 4122304.6201859117
YMax: 1944986.994636477
Spatial Reference: 102100
(3857)
LatestVCSWkid(0)
Pixel Size X: 30.0
Pixel Size Y: 30.0
Band Count: 1
Pixel Type: U4
RasterFunction Infos: {"rasterFunctionInfos": [{
"name": "None",
"description": "Make a Raster or Raster Dataset into a Function Raster Dataset.",
"help": ""
}]}
Mensuration Capabilities: Basic
Inspection Capabilities:
Has Histograms: true
Has Colormap: false
Has Multi Dimensions : false
Rendering Rule:
Min Scale: 0
Max Scale: 0
Resampling: false
Copyright Text: United Nations Satellite Centre (UNOSAT)
Service Data Type: esriImageServiceDataTypeGeneric
Min Values: 1
Max Values: 255
Mean Values: 9.286016415913368
Standard Deviation Values: 2.2978114024678535
Object ID Field: OBJECTID
Fields:
-
OBJECTID
(
type: esriFieldTypeOID, alias: OBJECTID
)
-
Shape
(
type: esriFieldTypeGeometry, alias: Shape
)
-
Name
(
type: esriFieldTypeString, alias: Name, length: 200
)
-
MinPS
(
type: esriFieldTypeDouble, alias: MinPS
)
-
MaxPS
(
type: esriFieldTypeDouble, alias: MaxPS
)
-
LowPS
(
type: esriFieldTypeDouble, alias: LowPS
)
-
HighPS
(
type: esriFieldTypeDouble, alias: HighPS
)
-
Category
(
type: esriFieldTypeInteger, alias: Category
, Coded Values:
[0: Unknown]
, [1: Primary]
, [2: Overview]
, ...6 more...
)
-
Tag
(
type: esriFieldTypeString, alias: Tag, length: 100
)
-
GroupName
(
type: esriFieldTypeString, alias: GroupName, length: 100
)
-
ProductName
(
type: esriFieldTypeString, alias: ProductName, length: 100
)
-
CenterX
(
type: esriFieldTypeDouble, alias: CenterX
)
-
CenterY
(
type: esriFieldTypeDouble, alias: CenterY
)
-
ZOrder
(
type: esriFieldTypeInteger, alias: ZOrder
)
-
Shape_Length
(
type: esriFieldTypeDouble, alias: Shape_Length
)
-
Shape_Area
(
type: esriFieldTypeDouble, alias: Shape_Area
)
-
Title
(
type: esriFieldTypeString, alias: Title, length: 1024
)
-
Description
(
type: esriFieldTypeString, alias: Description, length: 1024
)
-
Url
(
type: esriFieldTypeString, alias: Url, length: 1024
)
-
InputRanges
(
type: esriFieldTypeString, alias: InputRanges, length: 2048
)
-
NoDataRanges
(
type: esriFieldTypeString, alias: NoDataRanges, length: 256
)
-
RangeLabels
(
type: esriFieldTypeString, alias: RangeLabels, length: 1024
)
-
NoDataRangeLabels
(
type: esriFieldTypeString, alias: NoDataRangeLabels, length: 1024
)
-
OutputValues
(
type: esriFieldTypeString, alias: OutputValues, length: 256
)
-
Metadata
(
type: esriFieldTypeString, alias: Metadata, length: 1024
)
-
dataset_id
(
type: esriFieldTypeString, alias: dataset_id, length: 1024
)
Default Mosaic Method: Northwest
Allowed Mosaic Methods: NorthWest,Center,LockRaster,ByAttribute,Nadir,Viewpoint,Seamline,None
SortField:
SortValue: null
Mosaic Operator: First
Default Compression Quality: 75
Default Resampling Method: Nearest
Max Record Count: 1000
Max Image Height: 4100
Max Image Width: 15000
Max Download Image Count: 20
Max Mosaic Image Count: 20
Allow Raster Function: true
Allow Copy: true
Allow Analysis: true
Allow Compute TiePoints: false
Supports Statistics: true
Supports Advanced Queries: true
Use StandardizedQueries: true
Raster Type Infos:
Name: Raster Dataset
Description: Supports all ArcGIS Raster Datasets
Help:
Has Raster Attribute Table: false
Edit Fields Info: null
Ownership Based AccessControl For Rasters: null
Child Resources:
Info
Histograms
Statistics
Key Properties
Legend
Raster Function Infos
Supported Operations:
Export Image
Query
Identify
Measure
Compute Histograms
Compute Statistics Histograms
Get Samples
Compute Class Statistics
Query GPS Info
Find Images
Image to Map
Map to Image
Measure from Image
Image to Map Multiray
Query Boundary
Compute Pixel Location
Compute Angles
Validate
Project