View In:
ArcGIS JavaScript
ArcGIS Online Map Viewer
ArcGIS Earth
Service Description: commonsensing/FJ000_DR_EQ_Landslide_Kadavu
Name: commonsensing/FJ000_DR_EQ_Landslide_Kadavu
Description:
Single Fused Map Cache: false
Extent:
XMin: 1914540.9425971876
YMin: 3758080.4026101613
XMax: 1978520.9425971876
YMax: 3808685.4026101613
Spatial Reference: 3460
(3460)
LatestVCSWkid(0)
Initial Extent:
XMin: 1914540.9425971876
YMin: 3758080.4026101613
XMax: 1978520.9425971876
YMax: 3808685.4026101613
Spatial Reference: 3460
(3460)
LatestVCSWkid(0)
Full Extent:
XMin: 1914540.9425971876
YMin: 3758080.4026101613
XMax: 1978520.9425971876
YMax: 3808685.4026101613
Spatial Reference: 3460
(3460)
LatestVCSWkid(0)
Pixel Size X: 5.0
Pixel Size Y: 5.0
Band Count: 1
Pixel Type: S16
RasterFunction Infos: {"rasterFunctionInfos": [
{
"name": "WET_Output",
"description": "A raster function template.",
"help": ""
},
{
"name": "DRY_Output",
"description": "A raster function template.",
"help": ""
},
{
"name": "None",
"description": "",
"help": ""
}
]}
Mensuration Capabilities: Basic
Inspection Capabilities:
Has Histograms: true
Has Colormap: false
Has Multi Dimensions : false
Rendering Rule:
Min Scale: 0
Max Scale: 0
Copyright Text: UNITAR/UNOSAT
Service Data Type: esriImageServiceDataTypeGeneric
Min Values: 11
Max Values: 36
Mean Values: 14.3336379236
Standard Deviation Values: 4.227034916242
Object ID Field:
Fields:
None
Default Mosaic Method: Center
Allowed Mosaic Methods:
SortField:
SortValue: null
Mosaic Operator: First
Default Compression Quality: 75
Default Resampling Method: Bilinear
Max Record Count: null
Max Image Height: 4100
Max Image Width: 15000
Max Download Image Count: null
Max Mosaic Image Count: null
Allow Raster Function: true
Allow Copy: true
Allow Analysis: true
Allow Compute TiePoints: false
Supports Statistics: false
Supports Advanced Queries: false
Use StandardizedQueries: true
Raster Type Infos:
Name: Raster Dataset
Description: Supports all ArcGIS Raster Datasets
Help:
Has Raster Attribute Table: true
Edit Fields Info: null
Ownership Based AccessControl For Rasters: null
Child Resources:
Info
Raster Attribute Table
Histograms
Statistics
Key Properties
Legend
Raster Function Infos
Supported Operations:
Export Image
Identify
Measure
Compute Histograms
Compute Statistics Histograms
Get Samples
Compute Class Statistics
Query Boundary
Compute Pixel Location
Compute Angles
Validate
Project