View In:
ArcGIS JavaScript
ArcGIS Online Map Viewer
ArcGIS Earth
Service Description: commonsensing/Tsunami_RunUp_Extent_GAR2015
Name: commonsensing/Tsunami_RunUp_Extent_GAR2015
Description:
Single Fused Map Cache: false
Extent:
XMin: 1802536.3357662265
YMin: 3550710.746272224
XMax: 2316526.335766227
YMax: 4501440.746272225
Spatial Reference: 3460
(3460)
LatestVCSWkid(0)
Initial Extent:
XMin: 1802536.3357662265
YMin: 3550710.746272224
XMax: 2316526.335766227
YMax: 4501440.746272225
Spatial Reference: 3460
(3460)
LatestVCSWkid(0)
Full Extent:
XMin: 1802536.3357662265
YMin: 3550710.746272224
XMax: 2316526.335766227
YMax: 4501440.746272225
Spatial Reference: 3460
(3460)
LatestVCSWkid(0)
Pixel Size X: 30.00000000000003
Pixel Size Y: 30.00000000000003
Band Count: 1
Pixel Type: U8
RasterFunction Infos: {"rasterFunctionInfos": [{
"name": "None",
"description": "",
"help": ""
}]}
Mensuration Capabilities: Basic
Inspection Capabilities:
Has Histograms: true
Has Colormap: false
Has Multi Dimensions : false
Rendering Rule:
Min Scale: 0
Max Scale: 0
Copyright Text:
Service Data Type: esriImageServiceDataTypeGeneric
Min Values: 0
Max Values: 1
Mean Values: 0.026474032182040502
Standard Deviation Values: 0.1605402100087284
Object ID Field:
Fields:
None
Default Mosaic Method: Center
Allowed Mosaic Methods:
SortField:
SortValue: null
Mosaic Operator: First
Default Compression Quality: 75
Default Resampling Method: Bilinear
Max Record Count: null
Max Image Height: 4100
Max Image Width: 15000
Max Download Image Count: null
Max Mosaic Image Count: null
Allow Raster Function: true
Allow Copy: true
Allow Analysis: true
Allow Compute TiePoints: false
Supports Statistics: false
Supports Advanced Queries: false
Use StandardizedQueries: true
Raster Type Infos:
Name: Raster Dataset
Description: Supports all ArcGIS Raster Datasets
Help:
Has Raster Attribute Table: true
Edit Fields Info: null
Ownership Based AccessControl For Rasters: null
Child Resources:
Info
Raster Attribute Table
Histograms
Statistics
Key Properties
Legend
Raster Function Infos
Supported Operations:
Export Image
Identify
Measure
Compute Histograms
Compute Statistics Histograms
Get Samples
Compute Class Statistics
Query Boundary
Compute Pixel Location
Compute Angles
Validate
Project