View In:
ArcGIS JavaScript
ArcGIS Online Map Viewer
ArcGIS Earth
Service Description: NORAD/Hillshade_Bududa
Name: NORAD/Hillshade_Bududa
Description:
Single Fused Map Cache: false
Extent:
XMin: 641374.0619015072
YMin: 103481.42485344628
XMax: 671049.0619015072
YMax: 124043.92485344628
Spatial Reference: 21096
(21096)
LatestVCSWkid(0)
Initial Extent:
XMin: 641374.0619015072
YMin: 103481.42485344628
XMax: 671049.0619015072
YMax: 124043.92485344628
Spatial Reference: 21096
(21096)
LatestVCSWkid(0)
Full Extent:
XMin: 641374.0619015072
YMin: 103481.42485344628
XMax: 671049.0619015072
YMax: 124043.92485344628
Spatial Reference: 21096
(21096)
LatestVCSWkid(0)
Pixel Size X: 12.5
Pixel Size Y: 12.5
Band Count: 1
Pixel Type: U8
RasterFunction Infos: {"rasterFunctionInfos": [{
"name": "None",
"description": "",
"help": ""
}]}
Mensuration Capabilities: Basic
Inspection Capabilities:
Has Histograms: true
Has Colormap: false
Has Multi Dimensions : false
Rendering Rule:
Min Scale: 0
Max Scale: 0
Copyright Text:
Service Data Type: esriImageServiceDataTypeGeneric
Min Values: 0
Max Values: 254
Mean Values: 165.58669367557764
Standard Deviation Values: 55.407122863488226
Object ID Field:
Fields:
None
Default Mosaic Method: Center
Allowed Mosaic Methods:
SortField:
SortValue: null
Mosaic Operator: First
Default Compression Quality: 75
Default Resampling Method: Bilinear
Max Record Count: null
Max Image Height: 4100
Max Image Width: 15000
Max Download Image Count: null
Max Mosaic Image Count: null
Allow Raster Function: true
Allow Copy: true
Allow Analysis: true
Allow Compute TiePoints: false
Supports Statistics: false
Supports Advanced Queries: false
Use StandardizedQueries: true
Raster Type Infos:
Name: Raster Dataset
Description: Supports all ArcGIS Raster Datasets
Help:
Has Raster Attribute Table: true
Edit Fields Info: null
Ownership Based AccessControl For Rasters: null
Child Resources:
Info
Raster Attribute Table
Histograms
Statistics
Key Properties
Legend
Raster Function Infos
Supported Operations:
Export Image
Identify
Measure
Compute Histograms
Compute Statistics Histograms
Get Samples
Compute Class Statistics
Query Boundary
Compute Pixel Location
Compute Angles
Validate
Project