View In:
ArcGIS JavaScript
ArcGIS Online Map Viewer
ArcGIS Earth
Service Description: commonsensing/Fiji_NASADEM
Name: commonsensing/Fiji_NASADEM
Description:
Single Fused Map Cache: false
Extent:
XMin: 1802544.9135
YMin: 3550709.467
XMax: 2316504.9135
YMax: 4501439.467
Spatial Reference: 0
(0)
LatestVCSWkid(0)
Initial Extent:
XMin: 1802544.9135
YMin: 3550709.467
XMax: 2316504.9135
YMax: 4501439.467
Spatial Reference: 0
(0)
LatestVCSWkid(0)
Full Extent:
XMin: 1802544.9135
YMin: 3550709.467
XMax: 2316504.9135
YMax: 4501439.467
Spatial Reference: 0
(0)
LatestVCSWkid(0)
Pixel Size X: 29.999999999999986
Pixel Size Y: 30.0
Band Count: 1
Pixel Type: F32
RasterFunction Infos: {"rasterFunctionInfos": [
{
"name": "Fill",
"description": "Elevation Symbol",
"help": ""
},
{
"name": "None",
"description": "",
"help": ""
}
]}
Mensuration Capabilities: Basic
Inspection Capabilities:
Has Histograms: true
Has Colormap: false
Has Multi Dimensions : false
Rendering Rule:
Min Scale: 0
Max Scale: 0
Copyright Text:
Service Data Type: esriImageServiceDataTypeGeneric
Min Values: -41
Max Values: 1311
Mean Values: 210.32568081764
Standard Deviation Values: 211.27335238656
Object ID Field:
Fields:
None
Default Mosaic Method: Center
Allowed Mosaic Methods:
SortField:
SortValue: null
Mosaic Operator: First
Default Compression Quality: 75
Default Resampling Method: Bilinear
Max Record Count: null
Max Image Height: 4100
Max Image Width: 15000
Max Download Image Count: null
Max Mosaic Image Count: null
Allow Raster Function: true
Allow Copy: true
Allow Analysis: true
Allow Compute TiePoints: false
Supports Statistics: false
Supports Advanced Queries: false
Use StandardizedQueries: true
Raster Type Infos:
Name: Raster Dataset
Description: Supports all ArcGIS Raster Datasets
Help:
Has Raster Attribute Table: false
Edit Fields Info: null
Ownership Based AccessControl For Rasters: null
Child Resources:
Info
Histograms
Statistics
Key Properties
Legend
Raster Function Infos
Supported Operations:
Export Image
Identify
Measure
Compute Histograms
Compute Statistics Histograms
Get Samples
Compute Class Statistics
Query Boundary
Compute Pixel Location
Compute Angles
Validate
Project