View In:
ArcGIS JavaScript
ArcGIS Online Map Viewer
ArcGIS Earth
Service Description: commonsensing/NASADEM_VUT_Efate
Name: commonsensing/NASADEM_VUT_Efate
Description:
Single Fused Map Cache: false
Extent:
XMin: 168.1523611111111
YMin: -17.830138888888882
XMax: 168.59819444444443
YMax: -17.40736111111111
Spatial Reference: 4326
(4326)
LatestVCSWkid(0)
Initial Extent:
XMin: 168.1523611111111
YMin: -17.830138888888882
XMax: 168.59819444444443
YMax: -17.40736111111111
Spatial Reference: 4326
(4326)
LatestVCSWkid(0)
Full Extent:
XMin: 168.1523611111111
YMin: -17.830138888888882
XMax: 168.59819444444443
YMax: -17.40736111111111
Spatial Reference: 4326
(4326)
LatestVCSWkid(0)
Pixel Size X: 2.7777777777777306E-4
Pixel Size Y: 2.7777777777777333E-4
Band Count: 1
Pixel Type: S16
RasterFunction Infos: {"rasterFunctionInfos": [{
"name": "None",
"description": "",
"help": ""
}]}
Mensuration Capabilities: Basic
Inspection Capabilities:
Has Histograms: true
Has Colormap: false
Has Multi Dimensions : false
Rendering Rule:
Min Scale: 0
Max Scale: 0
Copyright Text:
Service Data Type: esriImageServiceDataTypeGeneric
Min Values: -22
Max Values: 652
Mean Values: 144.92845032692
Standard Deviation Values: 124.17761720854
Object ID Field:
Fields:
None
Default Mosaic Method: Center
Allowed Mosaic Methods:
SortField:
SortValue: null
Mosaic Operator: First
Default Compression Quality: 75
Default Resampling Method: Bilinear
Max Record Count: null
Max Image Height: 4100
Max Image Width: 15000
Max Download Image Count: null
Max Mosaic Image Count: null
Allow Raster Function: true
Allow Copy: true
Allow Analysis: true
Allow Compute TiePoints: false
Supports Statistics: false
Supports Advanced Queries: false
Use StandardizedQueries: true
Raster Type Infos:
Name: Raster Dataset
Description: Supports all ArcGIS Raster Datasets
Help:
Has Raster Attribute Table: false
Edit Fields Info: null
Ownership Based AccessControl For Rasters: null
Child Resources:
Info
Histograms
Statistics
Key Properties
Legend
Raster Function Infos
Supported Operations:
Export Image
Identify
Measure
Compute Histograms
Compute Statistics Histograms
Get Samples
Compute Class Statistics
Query Boundary
Compute Pixel Location
Compute Angles
Validate
Project