View In:
ArcGIS JavaScript
ArcGIS Online Map Viewer
ArcGIS Earth
Service Description: commonsensing/SB009_Lungga_HydroDEM
Name: commonsensing/SB009_Lungga_HydroDEM
Description:
Single Fused Map Cache: false
Extent:
XMin: 576775.0
YMin: 8934237.5
XMax: 615825.0
YMax: 8960112.5
Spatial Reference: 32757
(32757)
LatestVCSWkid(0)
Initial Extent:
XMin: 576775.0
YMin: 8934237.5
XMax: 615825.0
YMax: 8960112.5
Spatial Reference: 32757
(32757)
LatestVCSWkid(0)
Full Extent:
XMin: 576775.0
YMin: 8934237.5
XMax: 615825.0
YMax: 8960112.5
Spatial Reference: 32757
(32757)
LatestVCSWkid(0)
Pixel Size X: 12.5
Pixel Size Y: 12.5
Band Count: 1
Pixel Type: F32
RasterFunction Infos: {"rasterFunctionInfos": [
{
"name": "Hillshade",
"description": "Creates a 3D representation of the surface, with the sun's relative position taken into account for shading the image.",
"help": ""
},
{
"name": "None",
"description": "",
"help": ""
}
]}
Mensuration Capabilities: Basic
Inspection Capabilities:
Has Histograms: true
Has Colormap: false
Has Multi Dimensions : false
Rendering Rule:
Min Scale: 0
Max Scale: 0
Copyright Text:
Service Data Type: esriImageServiceDataTypeGeneric
Min Values: -3.896394729614258
Max Values: 1647.9344482421875
Mean Values: 525.8920053346686
Standard Deviation Values: 266.255008026808
Object ID Field:
Fields:
None
Default Mosaic Method: Center
Allowed Mosaic Methods:
SortField:
SortValue: null
Mosaic Operator: First
Default Compression Quality: 75
Default Resampling Method: Bilinear
Max Record Count: null
Max Image Height: 4100
Max Image Width: 15000
Max Download Image Count: null
Max Mosaic Image Count: null
Allow Raster Function: true
Allow Copy: true
Allow Analysis: true
Allow Compute TiePoints: false
Supports Statistics: false
Supports Advanced Queries: false
Use StandardizedQueries: true
Raster Type Infos:
Name: Raster Dataset
Description: Supports all ArcGIS Raster Datasets
Help:
Has Raster Attribute Table: false
Edit Fields Info: null
Ownership Based AccessControl For Rasters: null
Child Resources:
Info
Histograms
Statistics
Key Properties
Legend
Raster Function Infos
Supported Operations:
Export Image
Identify
Measure
Compute Histograms
Compute Statistics Histograms
Get Samples
Compute Class Statistics
Query Boundary
Compute Pixel Location
Compute Angles
Validate
Project