View In:
ArcGIS JavaScript
ArcGIS Online Map Viewer
ArcGIS Earth
Service Description: commonsensing/VU005_Sarakata_HydroDEM
Name: commonsensing/VU005_Sarakata_HydroDEM
Description:
Single Fused Map Cache: false
Extent:
XMin: 710312.6875
YMin: 8282229.75
XMax: 733837.6875
YMax: 8303854.75
Spatial Reference: 32758
(32758)
LatestVCSWkid(0)
Initial Extent:
XMin: 710312.6875
YMin: 8282229.75
XMax: 733837.6875
YMax: 8303854.75
Spatial Reference: 32758
(32758)
LatestVCSWkid(0)
Full Extent:
XMin: 710312.6875
YMin: 8282229.75
XMax: 733837.6875
YMax: 8303854.75
Spatial Reference: 32758
(32758)
LatestVCSWkid(0)
Pixel Size X: 12.5
Pixel Size Y: 12.5
Band Count: 1
Pixel Type: U16
RasterFunction Infos: {"rasterFunctionInfos": [{
"name": "None",
"description": "Make a Raster or Raster Dataset into a Function Raster Dataset.",
"help": ""
}]}
Mensuration Capabilities: Basic
Inspection Capabilities:
Has Histograms: true
Has Colormap: true
Has Multi Dimensions : false
Rendering Rule:
Min Scale: 0
Max Scale: 0
Copyright Text:
Service Data Type: esriImageServiceDataTypeThematic
Min Values: 1
Max Values: 39
Mean Values: 12.962507029198209
Standard Deviation Values: 7.855690698368759
Object ID Field:
Fields:
None
Default Mosaic Method: Center
Allowed Mosaic Methods:
SortField:
SortValue: null
Mosaic Operator: First
Default Compression Quality: 75
Default Resampling Method: Bilinear
Max Record Count: null
Max Image Height: 4100
Max Image Width: 15000
Max Download Image Count: null
Max Mosaic Image Count: null
Allow Raster Function: true
Allow Copy: true
Allow Analysis: true
Allow Compute TiePoints: false
Supports Statistics: false
Supports Advanced Queries: false
Use StandardizedQueries: true
Raster Type Infos:
Name: Raster Dataset
Description: Supports all ArcGIS Raster Datasets
Help:
Has Raster Attribute Table: true
Edit Fields Info: null
Ownership Based AccessControl For Rasters: null
Child Resources:
Info
Raster Attribute Table
Histograms
Statistics
Key Properties
Color Map
Legend
Raster Function Infos
Supported Operations:
Export Image
Identify
Measure
Compute Histograms
Compute Statistics Histograms
Get Samples
Compute Class Statistics
Query Boundary
Compute Pixel Location
Compute Angles
Validate
Project